Workbook

Sheet CAJONES
B3: CARACTERÍSTICAS Y COMPOSICIÓN DE LOS CAJONES A EXPORTAR
B5: PRODUCTO | C5: PESO x U (KG) | D5: COSTO x U (U$S) | E5: CANTIDAD POR CAJÓN | F5: PESO NETO (KG) | G5: PESO BRUTO (KG) | H5: VALOR DECLARADO U$S | I5: NCM
B6: MANGO | C6: 1.66 | D6: 52 | E6: 100 | F6: =E6*C6 -> 166 | G6: =F6+E11 -> 181 | H6: =PRODUCT(E6,D6) -> 5200 | I6: 84.79.9090
B7: VÁLVULA | C7: 1.4 | D7: 30 | E7: 85 | F7: =E7*C7 -> 119 | G7: =F7+E11 -> 134 | H7: =PRODUCT(E7,D7) -> 2550 | I7: 84.81.3000
B8: REGULADOR | C8: 2.4 | D8: 65 | E8: 38 | F8: =E8*C8 -> 91.2 | G8: =F8+E11 -> 106.2 | H8: =PRODUCT(E8,D8) -> 2470 | I8: 84.81.1000
F9: TOTALES | G9: =SUM(G6:G8) -> 421.2 | H9: =SUM(H6:H8) -> 10220
B11: CAJON | C11: 50x50x50cm | D11: 0,125 CBM | E11: 15 | F11: KG

Sheet 3 EQUIPOS
B1: COSTO ENVÍO DE LOS TRES CAJONES JUNTOS
B2: ENVÍO MARÍTIMO LCL | C2: SE APLICA MÍNIMO 1M3
B3: 3 CAJONES | F3: OBSERVACIONES | G3: CTO % | H3: LOS TRES PRODUCTOS JUNTOS
B4: Embalaje | C4: 15 | E4: =PRODUCT(C4,I7) -> 45 | F4: U$S por cajón | H4: VALOR DECLARADO (U$S) | I4: 10220 | J4: 1
B5: GASTOS FINANCIEROS | H5: PESO BRUTO (TON) | I5: 0.4212
B6: Gtos bancarios por transferencia | C6: 0.002 | E6: =MAX((I4+E4)*C6,40)+6 -> 46 | F6: 0,2% o mínimo U$S 40 + U$S 6 formulario | H6: VOLUMEN (CBM) | I6: 0.38 | J6: 1
D7: CTO EXW | E7: =I4+E4+E6 -> 10311 | F7: 100 U x U$S 52 | G7: =E7*J4/I4 -> 1.0089041 | H7: BULTOS / ÍTEMS | I7: 3
B8: GTOS LOCALES ARG
B9: Consolidación | E9: =PRODUCT(35*1)+(35*21%) -> 42.35 | F9: U$S 35 x CBM/TON + IVA | H9: TRAMOS | I9: DÍAS
B10: House Bill of Landing (HBL) | E10: =60+(60*21%) -> 72.6 | F10: U$S 60 + IVA | H10: BUE - BOG | I10: 45
B11: Gate Out | E11: =75+(75*21%) -> 90.75 | F11: U$S 75 + IVA | H11: CARTAGENA -BOG | I11: 2
B12: Verified Gross Mass (VGM) | E12: =45+(45*21%) -> 54.45 | F12: U$S 45 + IVA | H12: TT | I12: 2
B13: Desprecintado | E13: =100+(100*21%) -> 121 | F13: U$S 100 + IVA | H13: CARGA | I13: 5
B14: OTROS GTOS | H14: DÍAS A BOGOTÁ | I14: =SUM(I10:I13) -> 54
B15: Gtos de depósito (Murchinson) | E15: =400+400*21% -> 484 | F15: U$S 400 + IVA
B16: Vericación | E16: =150+150*21% -> 181.5 | F16: U$S 150 + IVA | H16: CARTAGENA - NOBSA | I16: 2
B17: Traslado interno hasta depósito | E17: =125+125*21% -> 151.25 | F17: U$S 125 + IVA | H17: TT | I17: 2
B18: FLETE ROS - BUE | C18: 45 | E18: =PRODUCT(C18*1) -> 45 | F18: U$S 45 x CBM/TON | H18: CARGA | I18: 5
D19: BASE IMPONIBLE | E19: =SUM(E7:E18) -> 11553.9 | H19: DÍAS A NOBSA | I19: =SUM(I10,I16:I18) -> 54
B20: DERECHOS ARG
B21: NCM | C21: 0.12 | E21: =MIN((I4*C21),(((E19+I4*12%)*3))/45) -> 852.02 | F21: 12% O MÁXIMO $3 POR DÓLAR SOBRE BASE FOB+12%
B22: REINTEGRO EXPO | C22: 0.045 | E22: =E19*C22 -> 519.9255 | F22: 4,5% SOBRE VALOR FOB
D23: CTO FOB | E23: =SUM(E19:E22) -> 12925.846 | G23: =(E23*J4)/I4 -> 1.2647598
B24: FLETE BUE - CTG | C24: 125 | E24: =MAX((C24*1),225) -> 225 | F24: U$S 125 x CBM/TON MINIMO 225
B25: SEGURO | C25: 0.0055 | E25: =MAX((C25*E23),100) -> 100 | F25: 0,55% FOB O MÍNIMO U$S 100
D26: CTO CIF | E26: =SUM(E23:E25) -> 13250.846 | G26: =(J4*E26)/I4 -> 1.2965602
B27: HONORARIOS DESPACHANTE ARG | C27: 0.01 | E27: =MAX((C27*E26),300) -> 300 | F27: 1% CIF O MÍNIMO U$S 300
B28: GTOS ADUANA COL | F28: BASE IMPONIBLE FACTURA COMERCIAL
B29: Agenciamiento Aduanal | C29: 0.005 | E29: =MAX((C29*E26),200) -> 200 | F29: 0,5% SOBRE CIF O MÍNIMO U$S 200
B30: Reconocimiento mercadería | C30: 85 | E30: =C30 -> 85 | F30: U$S 85
B31: Gtos administrativos | C31: 80 | E31: =C31 -> 80 | F31: U$S 80
B32: Declaración de importación | C32: 40 | E32: =C32*I7 -> 120 | F32: U$S 40 por caja
B33: Declaración de valor | C33: 40 | E33: =C33*I7 -> 120 | F33: U$S 40 por caja
B34: Licencia de importación | C34: 100 | E34: =C34*I7 -> 300 | F34: U$S 100 por caja
B35: Clasificación arancelaria | C35: 50 | E35: =C35*I7 -> 150 | F35: U$S 50 por item
B36: Manejo | C36: 70 | E36: =C36 -> 70 | F36: U$S 70
B37: GASTOS PORTUARIOS
B38: Terminal Handling Charge (THC) | C38: 8 | E38: =MAX((C38*I5),30) -> 30 | F38: U$S 8 x TON MÍNIMO 30
B39: Movilización | C39: 50 | E39: 50 | F39: U$s 50 hasta 3 TON o 1 CBM
B40: Apertura y cierre | C40: 10 | E40: =C40*I7 -> 30 | F40: U$S 10 por caja
...

Sheet MANGO
B2: COSTO ENVÍO DE UN CAJÓN CON MANGOS
B3: ENVÍO MARÍTIMO LCL | C3: SE APLICA MÍNIMO 1 CBM
B4: MANGO | F4: OBSERVACIONES | G4: CTO % | H4: MANGO | I4: 84.70.9090
B5: Embalaje | C5: 15 | E5: 15 | F5: U$S 15 por cajón | H5: VALOR DECLARADO (U$S) | I5: 5200 | J5: 1
B6: GASTOS FINANCIEROS | H6: PESO BRUTO (TON) | I6: 0.181
B7: Gtos bancarios por transferencia | C7: 0.002 | E7: =MAX((I5+E5)*C7,40)+6 -> 46 | F7: 0,2% o mínimo U$S 40 + U$S 6 formulario | H7: VOLUMEN (CBM) | I7: 0.125 | J7: 1
D8: CTO EXW | E8: =I5+E5+E7 -> 5261 | F8: 100 U x U$S 52 | G8: =E8*J5/I5 -> 1.0117308
B9: GTOS LOCALES ARG | H9: TRAMOS | I9: DÍAS
B10: Consolidación | E10: =SUM(35*J7,35*21%) -> 42.35 | F10: U$S 35 x CBM/TON + IVA | H10: BUE - BOG | I10: 45
B11: House Bill of Landing (HBL) | E11: =60+(60*21%) -> 72.6 | F11: U$S 60 + IVA | H11: CARTAGENA -BOG | I11: 2
B12: Gate Out | E12: =75+(75*21%) -> 90.75 | F12: U$S 75 + IVA | H12: TT | I12: 2
B13: Verified Gross Mass (VGM) | E13: =45+(45*21%) -> 54.45 | F13: U$S 45 + IVA | H13: CARGA | I13: 5
B14: Desprecintado | E14: =100+(100*21%) -> 121 | F14: U$S 100 + IVA | H14: DÍAS A BOGOTÁ | I14: =SUM(I10:I13) -> 54
B15: OTROS GTOS
B16: Gtos de depósito (Murchinson) | E16: =400+400*21% -> 484 | F16: U$S 400 + IVA | H16: CARTAGENA - NOBSA | I16: 2
B17: Vericación | E17: =150+150*21% -> 181.5 | F17: U$S 150 + IVA | H17: TT | I17: 2
B18: Traslado interno hasta depósito | E18: =125+125*21% -> 151.25 | F18: U$S 125 + IVA | H18: CARGA | I18: 5
B19: FLETE ROS - BUE | C19: 45 | E19: =C19*J7 -> 45 | F19: U$S 45 x CBM/TON | H19: DÍAS A NOBSA | I19: =SUM(I10,I16:I18) -> 54
D20: BASE IMPONIBLE | E20: =SUM(E8:E19) -> 6503.9
B21: DERECHOS ARG | H21: COSTO TOTAL DDP NOBSA | I21: =E59 -> 12232.67
B22: NCM | C22: 0.12 | E22: =MIN((I5*C22),(((E20+I5*12%)*3))/45) -> 475.19333 | F22: 12% O MÁXIMO $3 POR DÓLAR SOBRE BASE FOB+12% | H22: GANANCIA ESPERADA | I22: 0.35
B23: REINTEGRO EXPO | C23: 0.045 | E23: =E20*C23 -> 292.6755 | F23: 4,5% SOBRE VALOR FOB | H23: PRECIO FINAL DE LOS PROD | I23: =(I21*I22)+I21 -> 16514.105
D24: CTO FOB | E24: =SUM(E20:E23) -> 7271.7688 | G24: =(E24*J5)/I5 -> 1.3984171
B25: FLETE BUE - CTG | C25: 125 | E25: =MAX((C25*J7),225) -> 225 | F25: U$S 125 x CBM/TON MINIMO 225
B26: SEGURO | C26: 0.0055 | E26: =MAX((C26*E24),100) -> 100 | F26: 0,55% FOB O MÍNIMO U$S 100
D27: CTO CIF | E27: =SUM(E24:E26) -> 7596.7688 | G27: =(J5*E27)/I5 -> 1.4609171
B28: HONORARIOS DESPACHANTE ARG | C28: 0.01 | E28: =MAX((C28*E27),300) -> 300 | F28: 1% CIF O MÍNIMO U$S 300
B29: GTOS ADUANA COL | F29: BASE IMPONIBLE FACTURA COMERCIAL
B30: Agenciamiento Aduanal | C30: 0.005 | E30: =MAX((C30*E27),200) -> 200 | F30: 0,5% SOBRE CIF O MÍNIMO U$S 200
B31: Reconocimiento mercadería | C31: 85 | E31: =C31 -> 85 | F31: U$S 85
B32: Gtos administrativos | C32: 80 | E32: =C32 -> 80 | F32: U$S 80
B33: Declaración de importación | C33: 40 | E33: =C33 -> 40 | F33: U$S 40 por caja
B34: Declaración de valor | C34: 40 | E34: =C34 -> 40 | F34: U$S 40 por caja
B35: Licencia de importación | C35: 100 | E35: =C35 -> 100 | F35: U$S 100 por caja
B36: Clasificación arancelaria | C36: 50 | E36: =C36 -> 50 | F36: U$S 50 por item
B37: Manejo | C37: 70 | E37: =C37 -> 70 | F37: U$S 70
B38: GASTOS PORTUARIOS
B39: Terminal Handling Charge (THC) | C39: 8 | E39: =MAX((C39*J7),30) -> 30 | F39: U$S 8 x TON MÍNIMO 30
B40: Movilización | C40: 50 | E40: 50 | F40: U$s 50 hasta 3 TON o 1 CBM
B41: Apertura y cierre | C41: 10 | E41: 10 | F41: U$S 10 por caja
...

Sheet VB
B1: COSTO ENVÍO DE UN CAJÓN CON VÁLVULAS
B2: ENVÍO MARÍTIMO LCL | D2: SE APLICA MÍNIMO UN CBM
B3: VÁLVULA | F3: OBSERVACIONES | G3: CTO % | H3: VÁLVULA DE BLOQUEO 1/2 | I3: 84.81.3000
B4: Embalaje | C4: 15 | E4: =C4 -> 15 | H4: VALOR DECLARADO (U$S) | I4: 2550 | J4: 1
B5: GASTOS FINANCIEROS | H5: PESO BRUTO (TON) | I5: 0.134
B6: Gtos bancarios por transferencia | C6: 0.002 | E6: =MAX((I4+E4)*C6,40)+6 -> 46 | F6: 0,2% o mínimo U$S 40 + U$S 6 formulario | H6: VOLUMEN (CBM) | I6: 0.125 | J6: 1
D7: CTO EXW | E7: =I4+E4+E6 -> 2611 | F7: 85 U x U$S 30 | G7: =E7*J4/I4 -> 1.0239216
B8: GTOS LOCALES ARG | H8: TRAMOS | I8: DÍAS
B9: Consolidación | E9: =SUM(35*J6,35*21%) -> 42.35 | F9: U$S 35 x CBM/TON + IVA | H9: BUE - BOG | I9: 45
B10: House Bill of Landing (HBL) | E10: =60+(60*21%) -> 72.6 | F10: U$S 60 + IVA | H10: CARTAGENA -BOG | I10: 2
B11: Gate Out | E11: =75+(75*21%) -> 90.75 | F11: U$S 75 + IVA | H11: TT | I11: 2
B12: Verified Gross Mass (VGM) | E12: =45+(45*21%) -> 54.45 | F12: U$S 45 + IVA | H12: CARGA | I12: 5
B13: Desprecintado | E13: =100+(100*21%) -> 121 | F13: U$S 100 + IVA | H13: DÍAS A BOGOTÁ | I13: =SUM(I9:I12) -> 54
B14: OTROS GTOS
B15: Gtos de depósito (Murchinson) | E15: =400+400*21% -> 484 | F15: U$S 400 + IVA | H15: CARTAGENA - NOBSA | I15: 2
B16: Vericación | E16: =150+150*21% -> 181.5 | F16: U$S 150 + IVA | H16: TT | I16: 2
B17: Traslado interno hasta depósito | E17: =125+125*21% -> 151.25 | F17: U$S 125 + IVA | H17: CARGA | I17: 5
B18: FLETE ROS - BUE | C18: 45 | E18: =PRODUCT(C18,J6) -> 45 | F18: U$S 45 x CBM/TON | H18: DÍAS A NOBSA | I18: =SUM(I9,I15:I17) -> 54
D19: BASE IMPONIBLE | E19: =SUM(E7:E18) -> 3853.9
B20: DERECHOS ARG | H20: COSTO TOTAL DDP NOBSA | I20: =E58 -> 8256.7339
B21: NCM | C21: 0.12 | E21: =MIN((I4*C21),(((E19+I4*12%)*3))/45) -> 277.32667 | F21: 12% O MÁXIMO $3 POR DÓLAR SOBRE BASE FOB+12% | H21: GANANCIA ESPERADA | I21: 0.35
B22: REINTEGRO EXPO | C22: 0.045 | E22: =E19*C22 -> 173.4255 | F22: 4,5% SOBRE VALOR FOB | H22: PRECIO FINAL DE LOS PROD | I22: =(I20*I21)+I20 -> 11146.591
D23: CTO FOB | E23: =SUM(E19:E22) -> 4304.6522 | G23: =(E23*J4)/I4 -> 1.6880989
B24: FLETE BUE - CTG | C24: 125 | E24: =MAX((C24*J6),225) -> 225 | F24: U$S 125 x CBM/TON MINIMO 225
B25: SEGURO | C25: 0.0055 | E25: =MAX((C25*E23),100) -> 100 | F25: 0,55% FOB O MÍNIMO U$S 100
D26: CTO CIF | E26: =SUM(E23:E25) -> 4629.6522 | G26: =(J4*E26)/I4 -> 1.8155499
B27: HONORARIOS DESPACHANTE ARG | C27: 0.01 | E27: =MAX((C27*E26),300) -> 300 | F27: 1% CIF O MÍNIMO U$S 300
B28: GTOS ADUANA COL | F28: BASE IMPONIBLE FACTURA COMERCIAL
B29: Agenciamiento Aduanal | C29: 0.005 | E29: =MAX((C29*E26),200) -> 200 | F29: 0,5% SOBRE CIF O MÍNIMO U$S 200
B30: Reconocimiento mercadería | C30: 85 | E30: =C30 -> 85 | F30: U$S 85
B31: Gtos administrativos | C31: 80 | E31: =C31 -> 80 | F31: U$S 80
B32: Declaración de importación | C32: 40 | E32: =C32 -> 40 | F32: U$S 40 por caja
B33: Declaración de valor | C33: 40 | E33: =C33 -> 40 | F33: U$S 40 por caja
B34: Licencia de importación | C34: 100 | E34: =C34 -> 100 | F34: U$S 100 por caja
B35: Clasificación arancelaria | C35: 50 | E35: =C35 -> 50 | F35: U$S 50 por item
B36: Manejo | C36: 70 | E36: =C36 -> 70 | F36: U$S 70
B37: GASTOS PORTUARIOS
B38: Terminal Handling Charge (THC) | C38: 8 | E38: =MAX((C38*J6),30) -> 30 | F38: U$S 8 x TON MÍNIMO U$S 30
B39: Movilización | C39: 50 | E39: 50 | F39: U$S 50 hasta 3 TON o 1 CBM
B40: Apertura y cierre | C40: 10 | E40: 10 | F40: U$S 10 por caja
...

Sheet VR
B1: COSTO ENVÍO DE UN CAJÓN CON REGULADORES
B2: ENVÍO MARÍTIMO LCL | D2: SE APLICA MÍNIMO 1 CBM
B3: VÁLVULA RG1000 | F3: OBSERVACIONES | G3: CTO % | H3: VÁLVULA RG1000 | I3: 84.81.1000
B4: Embalaje | C4: 15 | E4: =C4 -> 15 | F4: U$S 15 por cajón | H4: VALOR DECLARADO (U$S) | I4: 2470 | J4: 1
B5: GASTOS FINANCIEROS | H5: PESO BRUTO (TON) | I5: 0.1062
B6: Gtos bancarios por transferencia | C6: 0.002 | E6: =MAX((I4+E4)*C6,40)+6 -> 46 | F6: 0,2% o mínimo U$S 40 + U$S 6 formulario | H6: VOLUMEN (CBM) | I6: 0.125 | J6: 1
D7: CTO EXW | E7: =I4+E4+E6 -> 2531 | F7: 38 U x U$S 65 | G7: =E7*J4/I4 -> 1.0246964
B8: GTOS LOCALES ARG | H8: TRAMOS | I8: DÍAS
B9: Consolidación | E9: =SUM(35*J6,35*21%) -> 42.35 | F9: U$S 35 x CBM/TON + IVA | H9: BUE - BOG | I9: 45
B10: House Bill of Landing (HBL) | E10: =60+(60*21%) -> 72.6 | F10: U$S 60 + IVA | H10: CARTAGENA -BOG | I10: 2
B11: Gate Out | E11: =75+(75*21%) -> 90.75 | F11: U$S 75 + IVA | H11: TT | I11: 2
B12: Verified Gross Mass (VGM) | E12: =45+(45*21%) -> 54.45 | F12: U$S 45 + IVA | H12: CARGA | I12: 5
B13: Desprecintado | E13: =100+(100*21%) -> 121 | F13: U$S 100 + IVA | H13: DÍAS A BOGOTÁ | I13: =SUM(I9:I12) -> 54
B14: OTROS GTOS
B15: Gtos de depósito (Murchinson) | E15: =400+400*21% -> 484 | F15: U$S 400 + IVA | H15: CARTAGENA - NOBSA | I15: 2
B16: Vericación | E16: =150+150*21% -> 181.5 | F16: U$S 150 + IVA | H16: TT | I16: 2
B17: Traslado interno hasta depósito | E17: =125+125*21% -> 151.25 | F17: U$S 125 + IVA | H17: CARGA | I17: 5
B18: FLETE ROS - BUE | C18: 45 | E18: =C18*J6 -> 45 | F18: U$S 45 x m3/TON | H18: DÍAS A NOBSA | I18: =SUM(I9,I15:I17) -> 54
D19: BASE IMPONIBLE | E19: =SUM(E7:E18) -> 3773.9
B20: DERECHOS ARG | H20: COSTO TOTAL DDP NOBSA | I20: =E58 -> 8136.7056
B21: NCM | C21: 0.12 | E21: =MIN((I4*C21),(((E19+I4*12%)*3))/45) -> 271.35333 | F21: 12% O MÁXIMO $3 POR DÓLAR SOBRE BASE FOB+12% | H21: GANANCIA ESPERADA | I21: 0.35
B22: REINTEGRO EXPO | C22: 0.045 | E22: =E19*C22 -> 169.8255 | F22: 4,5% SOBRE VALOR FOB | H22: PRECIO FINAL DE LOS PROD | I22: =(I20*I21)+I20 -> 10984.553
D23: CTO FOB | E23: =SUM(E19:E22) -> 4215.0788 | G23: =(E23*J4)/I4 -> 1.7065096
B24: FLETE BUE - CTG | C24: 125 | E24: =MAX((C24*I5),225) -> 225 | F24: U$S 125 x CBM/TON MINIMO 225
B25: SEGURO | C25: 0.0055 | E25: =MAX((C25*E23),100) -> 100 | F25: 0,55% FOB O MÍNIMO U$S 100
D26: CTO CIF | E26: =SUM(E23:E25) -> 4540.0788 | G26: =(J4*E26)/I4 -> 1.8380886
B27: HONORARIOS DESPACHANTE ARG | C27: 0.01 | E27: =MAX((C27*E26),300) -> 300 | F27: 1% CIF O MÍNIMO U$S 300
B28: GTOS ADUANA COL | F28: BASE IMPONIBLE FACTURA COMERCIAL
B29: Agenciamiento Aduanal | C29: 0.005 | E29: =MAX((C29*E26),200) -> 200 | F29: 0,5% SOBRE CIF O MÍNIMO U$S 200
B30: Reconocimiento mercadería | C30: 85 | E30: =C30 -> 85 | F30: U$S 85
B31: Gtos administrativos | C31: 80 | E31: =C31 -> 80 | F31: U$S 80
B32: Declaración de importación | C32: 40 | E32: =C32 -> 40 | F32: U$S 40 por caja
B33: Declaración de valor | C33: 40 | E33: =C33 -> 40 | F33: U$S 40 por caja
B34: Licencia de importación | C34: 100 | E34: =C34 -> 100 | F34: U$S 100 por caja
B35: Clasificación arancelaria | C35: 50 | E35: =C35 -> 50 | F35: U$S 50 por item
B36: Manejo | C36: 70 | E36: =C36 -> 70 | F36: U$S 70
B37: GASTOS PORTUARIOS
B38: Terminal Handling Charge (THC) | C38: 8 | E38: =MAX((C38*J6),30) -> 30 | F38: U$S 8 x TON MÍNIMO U$S 30
B39: Movilización | C39: 50 | E39: 50 | F39: U$S 50 hasta 3 TON o 1 CBM
B40: Apertura y cierre | C40: 10 | E40: 10 | F40: U$S 10 por caja
...

Sheet PRECIOS
B2: CÁLCULO DE PRECIOS FINALES POR PRODUCTOS - ENVÍO MARÍTIMO
C4: GANANCIA | D4: 0.35
B5: MANGO | C5: COSTO | D5: PRECIO | E5: PRECIO U
B6: EXW | C6: =MANGO!E8 -> 5261 | D6: =C6*D4+C6 -> 7102.35 | E6: =D6/CAJONES!E6 -> 71.0235
B7: FOB | C7: =MANGO!E24 -> 7271.7688 | D7: =C7*D4+C7 -> 9816.8879 | E7: =D7/CAJONES!E6 -> 98.168879
B8: CIF | C8: =MANGO!E27 -> 7596.7688 | D8: =C8*D4+C8 -> 10255.638 | E8: =D8/CAJONES!E6 -> 102.55638
B9: DDP | C9: =MANGO!E59 -> 12232.67 | D9: =C9*D4+C9 -> 16514.105 | E9: =D9/CAJONES!E6 -> 165.14105
B11: VÁLVULA DE BLOQUEO | C11: COSTO | D11: PRECIO | E11: PRECIO U
B12: EXW | C12: =VB!E7 -> 2611 | D12: =C12*D4+C12 -> 3524.85 | E12: =D12/CAJONES!E7 -> 41.468824
B13: FOB | C13: =VB!E23 -> 4304.6522 | D13: =C13*D4+C13 -> 5811.2804 | E13: =D13/CAJONES!E7 -> 68.368005
B14: CIF | C14: =VB!E26 -> 4629.6522 | D14: =C14*D4+C14 -> 6250.0304 | E14: =D14/CAJONES!E7 -> 73.52977
B15: DDP | C15: =VB!E58 -> 8256.7339 | D15: =C15*D4+C15 -> 11146.591 | E15: =D15/CAJONES!E7 -> 131.13636
B17: VÁLVULA RG1000 | C17: COSTO | D17: PRECIO | E17: PRECIO U
B18: EXW | C18: =VR!E7 -> 2531 | D18: =C18*D4+C18 -> 3416.85 | E18: =D18/CAJONES!E8 -> 89.917105
B19: FOB | C19: =VR!E23 -> 4215.0788 | D19: =C19*D4+C19 -> 5690.3564 | E19: =D19/CAJONES!E8 -> 149.74622
B20: CIF | C20: =VR!E26 -> 4540.0788 | D20: =C20*D4+C20 -> 6129.1064 | E20: =D20/CAJONES!E8 -> 161.29227
B21: DDP | C21: =VR!E58 -> 8136.7056 | D21: =C21*D4+C21 -> 10984.553 | E21: =D21/CAJONES!E8 -> 289.06717
B23: LOS 3 PRODUCTOS | C23: COSTO | D23: PRECIO | E23: PRECIO U | F23: MANGO | G23: V B | H23: V R
B24: EXW | C24: ='3 EQUIPOS'!E7 -> 10311 | D24: =C24*D4+C24 -> 13919.85 | F24: =((CAJONES!D6*'3 EQUIPOS'!G7)+(CAJONES!D6*'3 EQUIPOS'!G7)*D4) -> 70.825068 | G24: =CAJONES!D7*'3 EQUIPOS'!G7+(CAJONES!D7*'3 EQUIPOS'!G7)*D4 -> 40.860616 | H24: =(CAJONES!D8*'3 EQUIPOS'!G7+(CAJONES!D8*'3 EQUIPOS'!G7)*PRECIOS!D4) -> 88.531336
B25: FOB | C25: ='3 EQUIPOS'!E23 -> 12925.846 | D25: =C25*D4+C25 -> 17449.891 | F25: =(CAJONES!D6*'3 EQUIPOS'!G23)+(CAJONES!D6*'3 EQUIPOS'!G23)*PRECIOS!D4 -> 88.78614 | G25: =(CAJONES!D7*'3 EQUIPOS'!G23)+(CAJONES!D7*'3 EQUIPOS'!G23)*PRECIOS!D4 -> 51.222773 | H25: =(CAJONES!D8*'3 EQUIPOS'!G23)+(CAJONES!D8*'3 EQUIPOS'!G23)*PRECIOS!D4 -> 110.98268
B26: CIF | C26: ='3 EQUIPOS'!E26 -> 13250.846 | D26: =C26*D4+C26 -> 17888.641 | F26: =CAJONES!D6*'3 EQUIPOS'!G26+(CAJONES!D6*'3 EQUIPOS'!G26)*PRECIOS!D4 -> 91.018528 | G26: =(CAJONES!D7*'3 EQUIPOS'!G26)+(CAJONES!D7*'3 EQUIPOS'!G26)*PRECIOS!D4 -> 52.510689 | H26: =CAJONES!D8*'3 EQUIPOS'!G26+CAJONES!D8*('3 EQUIPOS'!G26)*PRECIOS!D4 -> 113.77316
B27: DDP | C27: ='3 EQUIPOS'!E58 -> 20654.183 | D27: =C27*D4+C27 -> 27883.147 | F27: =(CAJONES!D6*'3 EQUIPOS'!G58)+(CAJONES!D6*'3 EQUIPOS'!G58)*D4 -> 141.8712 | G27: =(CAJONES!D7*'3 EQUIPOS'!G58)+(CAJONES!D7*'3 EQUIPOS'!G58)*PRECIOS!D4 -> 81.848768 | H27: =CAJONES!D8*'3 EQUIPOS'!G58+CAJONES!D8*'3 EQUIPOS'!G58*PRECIOS!D4 -> 177.339
