Workbook

Sheet CAJONES
B3: CARACTERÍSTICAS Y COMPOSICIÓN DE LOS CAJONES A EXPORTAR
B5: PRODUCTO | C5: PESO x U (KG) | D5: COSTO x U (U$S) | E5: CANTIDAD POR CAJÓN | F5: PESO NETO (KG) | G5: PESO BRUTO (KG) | H5: VALOR DECLARADO U$S | I5: NCM
B6: MANGO | C6: 1.66 | D6: 52 | E6: 100 | F6: =E6*C6 -> 166 | G6: =F6+E11 -> 181 | H6: =PRODUCT(E6,D6) -> 5200 | I6: 84.79.9090
B7: VÁLVULA | C7: 1.4 | D7: 30 | E7: 85 | F7: =E7*C7 -> 119 | G7: =F7+E11 -> 134 | H7: =PRODUCT(E7,D7) -> 2550 | I7: 84.81.3000
B8: REGULADOR | C8: 2.4 | D8: 65 | E8: 38 | F8: =E8*C8 -> 91.2 | G8: =F8+E11 -> 106.2 | H8: =PRODUCT(E8,D8) -> 2470 | I8: 84.81.1000
F9: TOTALES | G9: =SUM(G6:G8) -> 421.2 | H9: =SUM(H6:H8) -> 10220
B11: CAJÓN | C11: 50x50x50cm | D11: 0,125 CBM | E11: 15 | F11: KG

Sheet 3 EQUIPOS
B1: COSTO ENVÍO DE LOS TRES CAJONES JUNTOS
B2: ENVÍO AÉREO
B3: 3 CAJONES | F3: OBSERVACIONES | G3: CTO % | H3: LOS TRES PRODUCTOS
B4: Embalaje | C4: 15 | E4: =PRODUCT(C4,I7) -> 45 | F4: U$S por cajón | H4: VALOR DECLARADO (U$S) | I4: 10220 | J4: 1
B5: GASTOS FINANCIEROS | H5: PESO BRUTO (KG) | I5: 421.2
B6: Gtos bancarios por transferencia | C6: 0.002 | E6: =MAX((I4+E4)*C6,40)+6 -> 46 | F6: 0,2% o minimo U$S 40 + U$S 6 formulario | H6: VOLUMEN (CBM) | I6: 0.38 | J6: 1
D7: CTO EXW | E7: =I4+E4+E6 -> 10311 | F7: 100 U x U$S 52 | G7: =E7*J4/I4 -> 1.0089041 | H7: BULTOS / ÍTEMS | I7: 3
B8: GTOS LOCALES ARG
B9: Transfer Aeropuerto | E9: =SUM(100+100*21%) -> 121 | F9: U$S 100 + IVA | H9: TRAMOS | I9: DÍAS
B10: Handling Charge | E10: =SUM(70+70*21%) -> 84.7 | F10: U$S 70 + IVA | H10: ROS - BOG | I10: 5
B11: Doc Fee | E11: =50+(50*21%) -> 60.5 | F11: U$S 50 + IVA | H11: TT | I11: 2
B12: HAWB | E12: =45+(45*21%) -> 54.45 | F12: U$S 45 + IVA | H12: CARGA | I12: 5
B13: OTROS GTOS | H13: DÍAS A BOGOTÁ | I13: =SUM(I10:I12) -> 12
B14: Gtos de depósito (Murchinson) | E14: =400+400*21% -> 484 | F14: U$S 400 + IVA
B15: Vericación | E15: =150+150*21% -> 181.5 | F15: U$S 150 + IVA | H15: CARTAGENA - NOBSA | I15: 2
B16: Traslado interno hasta depósito | E16: =125+125*21% -> 151.25 | F16: U$S 125 + IVA | H16: TT | I16: 2
D17: BASE IMPONIBLE | E17: =SUM(E7:E16) -> 11448.4 | H17: CARGA | I17: 5
B18: DERECHOS ARG | H18: DÍAS A NOBSA | I18: =SUM(I10,I15:I17) -> 14
B19: NCM | C19: 0.12 | E19: =MIN((I4*C19),(((E17+I4*12%)*3))/45) -> 844.98667 | F19: 12% O MÁXIMO $3 POR DÓLAR SOBRE BASE FOB+12%
B20: REINTEGRO EXPO | C20: 0.045 | E20: =E17*C20 -> 515.178 | F20: 4,5% SOBRE VALOR FOB
D21: CTO FOB | E21: =SUM(E17:E20) -> 12808.565
B22: FLETE BUE - BOG | C22: 1.65 | E22: =(C22*I5) -> 694.98 | F22: U$S 1,65 x CBM/KG
B23: MZ | C23: 30 | E23: =C23 -> 30 | F23: U$S 30
B24: UA | C24: 25 | E24: =C24 -> 25 | F24: U$S 25
B25: SEGURO | C25: 0.0055 | E25: =MAX((C25*E21),100) -> 100 | F25: 0,55% FOB O MÍNIMO U$S 100
D26: CTO CIF | E26: =SUM(E21:E25) -> 13658.545 | G26: =(E21*J4)/I4 -> 1.2532842
B27: HONORARIOS DESPACHANTE ARG | C27: 0.01 | E27: =MAX((C27*E26),300) -> 300 | F27: 1% CIF O MÍNIMO U$S 300
B28: GTOS ADUANA COL
B29: Comisión despachante | C29: 0.003 | E29: =MAX((C29*E26),112) -> 112 | F29: 0,30% sobre valor CIF mínimo U$S 112 | G29: =(J4*E26)/I4 -> 1.3364525
B30: Inspección mercadería | C30: 48 | E30: =C30 -> 48 | F30: U$S 48
B31: Documentación | C31: 7 | E31: =C31 -> 7 | F31: U$S 7 por cada declaración de exportación
B32: Clasificación arancelaria | C32: 12 | E32: =C32*I7 -> 36 | F32: U$S 12 por ítem
B33: Gastos administrativos | C33: 48 | E33: =C33 -> 48 | F33: U$S 48
B34: Elaboración sistema VUCE | C34: 48 | E34: =C34 -> 48 | F34: U$S 48
B35: DERECHOS COL
B36: Aranceles | C36: 0.15 | E36: =C36*E26 -> 2048.7817 | F36: 15% sobre valor CIF
B37: IVA | C37: 0.19 | E37: =C37*E26 -> 2595.1235 | F37: 19% sobre valor CIF
B38: GTOS LOCALES COL
B39: Filing & Release AWB | C39: 150 | E39: =C39*J6 -> 150 | F39: U$S 150
B40: Transffer aeropuerto a destino | C40: 0.15 | E40: =MAX((C40*I5),100) -> 100 | F40: U$S 0,15 x CMB/KG MÍNIMO U$S 100
...

Sheet MANGO
B1: COSTO ENVÍO DE UN CAJÓN CON MANGOS
B2: ENVÍO AÉREO
B3: MANGO | F3: OBSERVACIONES | G3: CTO % | H3: MANGO | I3: 84.70.9090
B4: Embalaje | C4: 15 | E4: =PRODUCT(C4,I7) -> 15 | F4: U$S por cajón | H4: VALOR DECLARADO (U$S) | I4: 5200 | J4: 1
B5: GASTOS FINANCIEROS | H5: PESO BRUTO (KG) | I5: 181
B6: Gtos bancarios por transferencia | C6: 0.002 | E6: =MAX((I4+E4)*C6,40)+6 -> 46 | F6: 0,2% o minimo U$S 40 + U$S 6 formulario | H6: VOLUMEN (CBM) | I6: 0.125 | J6: 1
D7: CTO EXW | E7: =I4+E4+E6 -> 5261 | F7: 100 U x U$S 52 | G7: =E7*J4/I4 -> 1.0117308
B8: GTOS LOCALES ARG | H8: TRAMOS | I8: DÍAS
B9: Transfer Aeropuerto | E9: =SUM(100+100*21%) -> 121 | F9: U$S 100 + IVA | H9: BUE - BOG | I9: 45
B10: Handling Charge | E10: =SUM(70+70*21%) -> 84.7 | F10: U$S 70 + IVA | H10: CARTAGENA -BOG | I10: 2
B11: Doc Fee | E11: =50+(50*21%) -> 60.5 | F11: U$S 50 + IVA | H11: TT | I11: 2
B12: HAWB | E12: =45+(45*21%) -> 54.45 | F12: U$S 45 + IVA | H12: CARGA | I12: 5
B13: OTROS GTOS | H13: DÍAS A BOGOTÁ | I13: =SUM(I9:I12) -> 54
B14: Gtos de depósito (Murchinson) | E14: =400+400*21% -> 484 | F14: U$S 400 + IVA
B15: Vericación | E15: =150+150*21% -> 181.5 | F15: U$S 150 + IVA | H15: CARTAGENA - NOBSA | I15: 2
B16: Traslado interno hasta depósito | E16: =125+125*21% -> 151.25 | F16: U$S 125 + IVA | H16: TT | I16: 2
D17: BASE IMPONIBLE | E17: =SUM(E7:E16) -> 6398.4 | H17: CARGA | I17: 5
B18: DERECHOS ARG | H18: DÍAS A NOBSA | I18: =SUM(I9,I15:I17) -> 54
B19: NCM | C19: 0.12 | E19: =MIN((I4*C19),(((E17+I4*12%)*3))/45) -> 468.16 | F19: 12% O MÁXIMO $3 POR DÓLAR SOBRE BASE FOB+12%
B20: REINTEGRO EXPO | C20: 0.045 | E20: =E17*C20 -> 287.928 | F20: 4,5% SOBRE VALOR FOB
D21: CTO FOB | E21: =SUM(E17:E20) -> 7154.488
B22: FLETE BUE - BOG | C22: 1.65 | E22: =(C22*I5) -> 298.65 | F22: U$S 1,65 x CBM/KG
B23: MZ | C23: 30 | E23: =C23 -> 30 | F23: U$S 30
B24: UA | C24: 25 | E24: =C24 -> 25 | F24: U$S 25
B25: SEGURO | C25: 0.0055 | E25: =MAX((C25*E21),100) -> 100 | F25: 0,55% FOB O MÍNIMO U$S 100
D26: CTO CIF | E26: =SUM(E21:E25) -> 7608.138 | G26: =(E21*J4)/I4 -> 1.3758631
B27: HONORARIOS DESPACHANTE ARG | C27: 0.01 | E27: =MAX((C27*E26),300) -> 300 | F27: 1% CIF O MÍNIMO U$S 300
B28: GTOS ADUANA COL
B29: Comisión despachante | C29: 0.003 | E29: =MAX((C29*E26),112) -> 112 | F29: 0,30% sobre valor CIF mínimo U$S 112 | G29: =(J4*E26)/I4 -> 1.4631035
B30: Inspección mercadería | C30: 48 | E30: =C30 -> 48 | F30: U$S 48
B31: Documentación | C31: 7 | E31: =C31 -> 7 | F31: U$S 7 por cada declaración de exportación
B32: Clasificación arancelaria | C32: 12 | E32: =C32 -> 12 | F32: U$S 12 por ítem
B33: Gastos administrativos | C33: 48 | E33: =C33 -> 48 | F33: U$S 48
B34: Elaboración sistema VUCE | C34: 48 | E34: =C34 -> 48 | F34: U$S 48
B35: DERECHOS COL
B36: Aranceles | C36: 0.15 | E36: =C36*E26 -> 1141.2207 | F36: 15% sobre valor CIF
B37: IVA | C37: 0.19 | E37: =C37*E26 -> 1445.5462 | F37: 19% sobre valor CIF
B38: GTOS LOCALES COL
B39: Filing & Release AWB | C39: 150 | E39: =C39*J6 -> 150 | F39: U$S 150
B40: Transffer aeropuerto a destino | C40: 0.15 | E40: =MAX((C40*I5),100) -> 100 | F40: U$S 0,15 x CMB/KG MÍNIMO U$S 100
...

Sheet VB
B1: COSTO ENVÍO DE UN CAJÓN CON VÁLVULAS DE BLOQUEO
B2: ENVÍO AÉREO
B3: VÁLVULA DE BLOQUEO | F3: OBSERVACIONES | G3: CTO % | H3: VÁLVULA DE BLOQUEO 1/2 | I3: 84.81.3000
B4: Embalaje | C4: 15 | E4: =PRODUCT(C4,I7) -> 15 | F4: U$S por cajón | H4: VALOR DECLARADO (U$S) | I4: 2550 | J4: 1
B5: GASTOS FINANCIEROS | H5: PESO BRUTO (KG) | I5: 134
B6: Gtos bancarios por transferencia | C6: 0.002 | E6: =MAX((I4+E4)*C6,40)+6 -> 46 | F6: 0,2% o minimo U$S 40 + U$S 6 formulario | H6: VOLUMEN (CBM) | I6: 0.125 | J6: 1
D7: CTO EXW | E7: =I4+E4+E6 -> 2611 | F7: 100 U x U$S 52 | G7: =E7*J4/I4 -> 1.0239216
B8: GTOS LOCALES ARG | H8: TRAMOS | I8: DÍAS
B9: Transfer Aeropuerto | E9: =SUM(100+100*21%) -> 121 | F9: U$S 100 + IVA | H9: BUE - BOG | I9: 45
B10: Handling Charge | E10: =SUM(70+70*21%) -> 84.7 | F10: U$S 70 + IVA | H10: CARTAGENA -BOG | I10: 2
B11: Doc Fee | E11: =50+(50*21%) -> 60.5 | F11: U$S 50 + IVA | H11: TT | I11: 2
B12: HAWB | E12: =45+(45*21%) -> 54.45 | F12: U$S 45 + IVA | H12: CARGA | I12: 5
B13: OTROS GTOS | H13: DÍAS A BOGOTÁ | I13: =SUM(I9:I12) -> 54
B14: Gtos de depósito (Murchinson) | E14: =400+400*21% -> 484 | F14: U$S 400 + IVA
B15: Vericación | E15: =150+150*21% -> 181.5 | F15: U$S 150 + IVA | H15: CARTAGENA - NOBSA | I15: 2
B16: Traslado interno hasta depósito | E16: =125+125*21% -> 151.25 | F16: U$S 125 + IVA | H16: TT | I16: 2
D17: BASE IMPONIBLE | E17: =SUM(E7:E16) -> 3748.4 | H17: CARGA | I17: 5
B18: DERECHOS ARG | H18: DÍAS A NOBSA | I18: =SUM(I9,I15:I17) -> 54
B19: NCM | C19: 0.12 | E19: =MIN((I4*C19),(((E17+I4*12%)*3))/45) -> 270.29333 | F19: 12% O MÁXIMO $3 POR DÓLAR SOBRE BASE FOB+12%
B20: REINTEGRO EXPO | C20: 0.045 | E20: =E17*C20 -> 168.678 | F20: 4,5% SOBRE VALOR FOB
D21: CTO FOB | E21: =SUM(E17:E20) -> 4187.3713
B22: FLETE BUE - BOG | C22: 1.65 | E22: =(C22*I5) -> 221.1 | F22: U$S 1,65 x CBM/KG
B23: MZ | C23: 30 | E23: =C23 -> 30 | F23: U$S 30
B24: UA | C24: 25 | E24: =C24 -> 25 | F24: U$S 25
B25: SEGURO | C25: 0.0055 | E25: =MAX((C25*E21),100) -> 100 | F25: 0,55% FOB O MÍNIMO U$S 100
D26: CTO CIF | E26: =SUM(E21:E25) -> 4563.4713 | G26: =(E21*J4)/I4 -> 1.6421064
B27: HONORARIOS DESPACHANTE ARG | C27: 0.01 | E27: =MAX((C27*E26),300) -> 300 | F27: 1% CIF O MÍNIMO U$S 300
B28: GTOS ADUANA COL
B29: Comisión despachante | C29: 0.003 | E29: =MAX((C29*E26),112) -> 112 | F29: 0,30% sobre valor CIF mínimo U$S 112 | G29: =(J4*E26)/I4 -> 1.7895966
B30: Inspección mercadería | C30: 48 | E30: =C30 -> 48 | F30: U$S 48
B31: Documentación | C31: 7 | E31: =C31 -> 7 | F31: U$S 7 por cada declaración de exportación
B32: Clasificación arancelaria | C32: 12 | E32: =C32 -> 12 | F32: U$S 12 por ítem
B33: Gastos administrativos | C33: 48 | E33: =C33 -> 48 | F33: U$S 48
B34: Elaboración sistema VUCE | C34: 48 | E34: =C34 -> 48 | F34: U$S 48
B35: DERECHOS COL
B36: Aranceles | C36: 0.15 | E36: =C36*E26 -> 684.5207 | F36: 15% sobre valor CIF
B37: IVA | C37: 0.19 | E37: =C37*E26 -> 867.05955 | F37: 19% sobre valor CIF
B38: GTOS LOCALES COL
B39: Filing & Release AWB | C39: 150 | E39: =C39*J6 -> 150 | F39: U$S 150
B40: Transffer aeropuerto a destino | C40: 0.15 | E40: =MAX((C40*I5),100) -> 100 | F40: U$S 0,15 x CMB/KG MÍNIMO U$S 100
...

Sheet VR
B1: COSTO ENVÍO DE UN CAJÓN CON REGULADORES
B2: ENVÍO AÉREO
B3: VÁLVULA | F3: OBSERVACIONES | G3: CTO % | H3: VÁLVULA RG1000 | I3: 84.81.1000
B4: Embalaje | C4: 15 | E4: =PRODUCT(C4,I7) -> 15 | F4: U$S por cajón | H4: VALOR DECLARADO (U$S) | I4: 2470 | J4: 1
B5: GASTOS FINANCIEROS | H5: PESO BRUTO (TON) | I5: 106.2
B6: Gtos bancarios por transferencia | C6: 0.002 | E6: =MAX((I4+E4)*C6,40)+6 -> 46 | F6: 0,2% o minimo U$S 40 + U$S 6 formulario | H6: VOLUMEN (CBM) | I6: 0.125
D7: CTO EXW | E7: =I4+E4+E6 -> 2531 | F7: 100 U x U$S 52 | G7: =E7*J4/I4 -> 1.0246964
B8: GTOS LOCALES ARG | H8: TRAMOS | I8: DÍAS
B9: Transfer Aeropuerto | E9: =SUM(100+100*21%) -> 121 | F9: U$S 100 + IVA | H9: ROS - BOG | I9: 5
B10: Handling Charge | E10: =SUM(70+70*21%) -> 84.7 | F10: U$S 70 + IVA | H10: TT | I10: 2
B11: Doc Fee | E11: =50+(50*21%) -> 60.5 | F11: U$S 50 + IVA | H11: CARGA | I11: 5
B12: HAWB | E12: =45+(45*21%) -> 54.45 | F12: U$S 45 + IVA | H12: DÍAS A BOGOTÁ | I12: =SUM(I9:I11) -> 12
B13: OTROS GTOS
B14: Gtos de depósito (Murchinson) | E14: =400+400*21% -> 484 | F14: U$S 400 + IVA | H14: BOG - NOBSA | I14: 2
B15: Vericación | E15: =150+150*21% -> 181.5 | F15: U$S 150 + IVA | H15: TT | I15: 2
B16: Traslado interno hasta depósito | E16: =125+125*21% -> 151.25 | F16: U$S 125 + IVA | H16: CARGA | I16: 5
D17: BASE IMPONIBLE | E17: =SUM(E7:E16) -> 3668.4 | H17: DÍAS A NOBSA | I17: =SUM(I9,I14:I16) -> 14
B18: DERECHOS ARG
B19: NCM | C19: 0.12 | E19: =MIN((I4*C19),(((E17+I4*12%)*3))/45) -> 264.32 | F19: 12% O MÁXIMO $3 POR DÓLAR SOBRE BASE FOB+12%
B20: REINTEGRO EXPO | C20: 0.045 | E20: =E17*C20 -> 165.078 | F20: 4,5% SOBRE VALOR FOB
D21: CTO FOB | E21: =SUM(E17:E20) -> 4097.798
B22: FLETE BUE - BOG | C22: 1.65 | E22: =(C22*I5) -> 175.23 | F22: U$S 1,65 x CBM/KG
B23: MZ | C23: 30 | E23: =C23 -> 30 | F23: U$S 30
B24: UA | C24: 25 | E24: =C24 -> 25 | F24: U$S 25
B25: SEGURO | C25: 0.0055 | E25: =MAX((C25*E21),100) -> 100 | F25: 0,55% FOB O MÍNIMO U$S 100
D26: CTO CIF | E26: =SUM(E21:E25) -> 4428.028 | G26: =(E21*J4)/I4 -> 1.6590275
B27: HONORARIOS DESPACHANTE ARG | C27: 0.01 | E27: =MAX((C27*E26),300) -> 300 | F27: 1% CIF O MÍNIMO U$S 300
B28: GTOS ADUANA COL
B29: Comisión despachante | C29: 0.003 | E29: =MAX((C29*E26),112) -> 112 | F29: 0,30% sobre valor CIF mínimo U$S 112 | G29: =(J4*E26)/I4 -> 1.7927239
B30: Inspección mercadería | C30: 48 | E30: =C30 -> 48 | F30: U$S 48
B31: Documentación | C31: 7 | E31: =C31 -> 7 | F31: U$S 7 por cada declaración de exportación
B32: Clasificación arancelaria | C32: 12 | E32: =C32 -> 12 | F32: U$S 12 por ítem
B33: Gastos administrativos | C33: 48 | E33: =C33 -> 48 | F33: U$S 48
B34: Elaboración sistema VUCE | C34: 48 | E34: =C34 -> 48 | F34: U$S 48
B35: DERECHOS COL
B36: Aranceles | C36: 0.15 | E36: =C36*E26 -> 664.2042 | F36: 15% sobre valor CIF
B37: IVA | C37: 0.19 | E37: =C37*E26 -> 841.32532 | F37: 19% sobre valor CIF
B38: GTOS LOCALES COL
B39: Filing & Release AWB | C39: 150 | E39: =C39*J6 -> 0 | F39: U$S 150
B40: Transffer aeropuerto a destino | C40: 0.15 | E40: =MAX((C40*I5),100) -> 100 | F40: U$S 0,15 x CMB/KG MÍNIMO U$S 100
...

Sheet PRECIOS
B2: CÁLCULO DE PRECIOS FINALES POR PRODUCTOS - ENVÍO AÉREO
C4: GANANCIA | D4: 0.35
B5: MANGO | C5: COSTO | D5: PRECIO | E5: PRECIO U
B6: EXW | C6: =MANGO!E7 -> 5261 | D6: =C6*D4+C6 -> 7102.35 | E6: =D6/CAJONES!E6 -> 71.0235
B7: FOB | C7: =MANGO!E21 -> 7154.488 | D7: =C7*D4+C7 -> 9658.5588 | E7: =D7/CAJONES!E6 -> 96.585588
B8: CIF | C8: =MANGO!E26 -> 7608.138 | D8: =C8*D4+C8 -> 10270.986 | E8: =D8/CAJONES!E6 -> 102.70986
B9: DDP | C9: =MANGO!E46 -> 11539.905 | D9: =C9*D4+C9 -> 15578.872 | E9: =D9/CAJONES!E6 -> 155.78872
B11: VÁLVULA DE BLOQUEO | C11: COSTO | D11: PRECIO | E11: PRECIO U
B12: EXW | C12: =VB!E7 -> 2611 | D12: =C12*D4+C12 -> 3524.85 | E12: =D12/CAJONES!E7 -> 41.468824
B13: FOB | C13: =VB!E21 -> 4187.3713 | D13: =C13*D4+C13 -> 5652.9513 | E13: =D13/CAJONES!E7 -> 66.505309
B14: CIF | C14: =VB!E26 -> 4563.4713 | D14: =C14*D4+C14 -> 6160.6863 | E14: =D14/CAJONES!E7 -> 72.478662
B15: DDP | C15: =VB!E46 -> 7460.0516 | D15: =C15*D4+C15 -> 10071.07 | E15: =D15/CAJONES!E7 -> 118.48317
B17: VÁLVULA RG1000 | C17: COSTO | D17: PRECIO | E17: PRECIO U
B18: EXW | C18: =VR!E7 -> 2531 | D18: =C18*D4+C18 -> 3416.85 | E18: =D18/CAJONES!E8 -> 89.917105
B19: FOB | C19: =VR!E21 -> 4097.798 | D19: =C19*D4+C19 -> 5532.0273 | E19: =D19/CAJONES!E8 -> 145.57967
B20: CIF | C20: =VR!E26 -> 4428.028 | D20: =C20*D4+C20 -> 5977.8378 | E20: =D20/CAJONES!E8 -> 157.31152
B21: DDP | C21: =VR!E46 -> 7128.5575 | D21: =C21*D4+C21 -> 9623.5527 | E21: =D21/CAJONES!E8 -> 253.25139
B23: LOS 3 PRODUCTOS | C23: COSTO | D23: PRECIO | E23: PRECIO U | F23: MANGO | G23: V B | H23: V R
B24: EXW | C24: ='3 EQUIPOS'!E7 -> 10311 | D24: =C24*D4+C24 -> 13919.85 | F24: =CAJONES!D6*'3 EQUIPOS'!G7+(CAJONES!D6*'3 EQUIPOS'!G7)*PRECIOS!D4 -> 70.825068 | G24: =CAJONES!D7*'3 EQUIPOS'!G7+(CAJONES!D7*'3 EQUIPOS'!G7)*PRECIOS!D4 -> 40.860616 | H24: =CAJONES!D8*'3 EQUIPOS'!G7+(CAJONES!D8*'3 EQUIPOS'!G7)*PRECIOS!D4 -> 88.531336
B25: FOB | C25: ='3 EQUIPOS'!E21 -> 12808.565 | D25: =C25*D4+C25 -> 17291.562 | F25: =(CAJONES!D6*'3 EQUIPOS'!G26)+(CAJONES!D6*'3 EQUIPOS'!G26)*PRECIOS!D4 -> 87.980552 | G25: =(CAJONES!D7*'3 EQUIPOS'!G26)+(CAJONES!D7*'3 EQUIPOS'!G26)*PRECIOS!D4 -> 50.758011 | H25: =(CAJONES!D8*'3 EQUIPOS'!G26)+(CAJONES!D8*'3 EQUIPOS'!G26)*PRECIOS!D4 -> 109.97569
B26: CIF | C26: ='3 EQUIPOS'!E26 -> 13658.545 | D26: =C26*D4+C26 -> 18439.035 | F26: =CAJONES!D6*'3 EQUIPOS'!G29+(CAJONES!D6*'3 EQUIPOS'!G29)*PRECIOS!D4 -> 93.818966 | G26: =(CAJONES!D7*'3 EQUIPOS'!G29)+(CAJONES!D7*'3 EQUIPOS'!G29)*PRECIOS!D4 -> 54.126327 | H26: =CAJONES!D8*'3 EQUIPOS'!G29+CAJONES!D8*('3 EQUIPOS'!G29)*PRECIOS!D4 -> 117.27371
B27: DDP | C27: ='3 EQUIPOS'!E46 -> 19671.45 | D27: =C27*D4+C27 -> 26556.457 | F27: =(CAJONES!D6*'3 EQUIPOS'!G46)+(CAJONES!D6*'3 EQUIPOS'!G46)*D4 -> 135.12092 | G27: =(CAJONES!D7*'3 EQUIPOS'!G46)+(CAJONES!D7*'3 EQUIPOS'!G46)*PRECIOS!D4 -> 77.954376 | H27: =CAJONES!D8*'3 EQUIPOS'!G46+CAJONES!D8*'3 EQUIPOS'!G46*PRECIOS!D4 -> 168.90115
